BEGIN:VCALENDAR
METHOD:REQUEST
PRODID:-//events.orgNONSGML ical.net 4.0//EN
VERSION:2.0
BEGIN:VEVENT
DTEND;VALUE=DATE:20260516
DTSTAMP:20260421T082048Z
DTSTART;VALUE=DATE:20260516
LOCATION:The Rebel Lounge\, Phoenix
ORGANIZER;CN=:mailto:events@events.org
SEQUENCE:0
SUMMARY:EMONIGHTPHX
UID:6a46ab3b-16a9-4d20-b506-51afcd025df9
URL:https://events.org/e/EMONIGHTPHX/UP2KK4IB
BEGIN:VALARM
ACTION:DISPLAY
SUMMARY:Reminder
TRIGGER:-P1D
END:VALARM
END:VEVENT
END:VCALENDAR
