BEGIN:VCALENDAR
METHOD:REQUEST
PRODID:-//events.orgNONSGML ical.net 4.0//EN
VERSION:2.0
BEGIN:VEVENT
DTEND;VALUE=DATE:20260405
DTSTAMP:20260421T082001Z
DTSTART;VALUE=DATE:20260405
LOCATION:The Wiltern\, Los Angeles
ORGANIZER;CN=:mailto:events@events.org
SEQUENCE:0
SUMMARY:Verka Serduchka
UID:fab2553d-fad6-4764-81d8-0d2c3539e963
URL:https://events.org/e/Verka-Serduchka/T4P8TO3U
BEGIN:VALARM
ACTION:DISPLAY
SUMMARY:Reminder
TRIGGER:-P1D
END:VALARM
END:VEVENT
END:VCALENDAR
