BEGIN:VCALENDAR
METHOD:REQUEST
PRODID:-//events.orgNONSGML ical.net 4.0//EN
VERSION:2.0
BEGIN:VEVENT
DTEND;VALUE=DATE:20260509
DTSTAMP:20260423T133939Z
DTSTART;VALUE=DATE:20260509
LOCATION:Russ Chandler Stadium\, Atlanta
ORGANIZER;CN=:mailto:events@events.org
SEQUENCE:0
SUMMARY:Georgia Tech Yellow Jackets Baseball vs. Duke Blue Devils Baseball
UID:aa52051f-e435-4da5-a97e-3d985b1e830d
URL:https://events.org/e/Georgia-Tech-Yellow-Jackets-Baseball-vs-Duke/2C68
 BXYQ
BEGIN:VALARM
ACTION:DISPLAY
SUMMARY:Reminder
TRIGGER:-P1D
END:VALARM
END:VEVENT
END:VCALENDAR
