BEGIN:VCALENDAR
METHOD:REQUEST
PRODID:-//events.orgNONSGML ical.net 4.0//EN
VERSION:2.0
BEGIN:VEVENT
DTEND;VALUE=DATE:20260605
DTSTAMP:20260423T133026Z
DTSTART;VALUE=DATE:20260605
LOCATION:Guthrie Theater - Wurtele Thrust Stage\, Minneapolis
ORGANIZER;CN=:mailto:events@events.org
SEQUENCE:0
SUMMARY:Little Women
UID:cc7c13c7-33d3-46dd-b0b3-01019b8dd2d1
URL:https://events.org/e/Little-Women/D92K834R
BEGIN:VALARM
ACTION:DISPLAY
SUMMARY:Reminder
TRIGGER:-P1D
END:VALARM
END:VEVENT
END:VCALENDAR
