BEGIN:VCALENDAR
METHOD:REQUEST
PRODID:-//events.orgNONSGML ical.net 4.0//EN
VERSION:2.0
BEGIN:VEVENT
DTEND;VALUE=DATE:20260530
DTSTAMP:20260421T130317Z
DTSTART;VALUE=DATE:20260530
LOCATION:The Eastern-GA\, Atlanta
ORGANIZER;CN=:mailto:events@events.org
SEQUENCE:0
SUMMARY:Punch Brothers
UID:1663cff3-4cb5-43ef-bd7e-f54f58831698
URL:https://events.org/e/Punch-Brothers/FO3XHK9K
BEGIN:VALARM
ACTION:DISPLAY
SUMMARY:Reminder
TRIGGER:-P1D
END:VALARM
END:VEVENT
END:VCALENDAR
