BEGIN:VCALENDAR
METHOD:REQUEST
PRODID:-//events.orgNONSGML ical.net 4.0//EN
VERSION:2.0
BEGIN:VEVENT
DTEND;VALUE=DATE:20260424
DTSTAMP:20260422T092006Z
DTSTART;VALUE=DATE:20260424
LOCATION:Town Hall\, New York
ORGANIZER;CN=:mailto:events@events.org
SEQUENCE:0
SUMMARY:International Championship Of High School A Cappella Finals (ICHSA)
UID:74e4ffc8-0c70-4786-b838-7b5e3ea1372f
URL:https://events.org/e/International-Championship-Of-High-School-A-C/I5W
 3WD5S
BEGIN:VALARM
ACTION:DISPLAY
SUMMARY:Reminder
TRIGGER:-P1D
END:VALARM
END:VEVENT
END:VCALENDAR
