BEGIN:VCALENDAR
METHOD:REQUEST
PRODID:-//events.orgNONSGML ical.net 4.0//EN
VERSION:2.0
BEGIN:VEVENT
DTEND;VALUE=DATE:20260517
DTSTAMP:20260423T133531Z
DTSTART;VALUE=DATE:20260517
LOCATION:Denver Improv\, Denver
ORGANIZER;CN=:mailto:events@events.org
SEQUENCE:0
SUMMARY:Disney Villians Drag Brunch
UID:20b286e5-1b88-4f4d-a28e-51fffa9bdedd
URL:https://events.org/e/Disney-Villians-Drag-Brunch/8NL6XH29
BEGIN:VALARM
ACTION:DISPLAY
SUMMARY:Reminder
TRIGGER:-P1D
END:VALARM
END:VEVENT
END:VCALENDAR
