BEGIN:VCALENDAR
METHOD:REQUEST
PRODID:-//events.orgNONSGML ical.net 4.0//EN
VERSION:2.0
BEGIN:VEVENT
DTEND;VALUE=DATE:20261106
DTSTAMP:20260424T092220Z
DTSTART;VALUE=DATE:20261106
LOCATION:The Anthem\, Washington
ORGANIZER;CN=:mailto:events@events.org
SEQUENCE:0
SUMMARY:Geese - Getting Killed Again Tour
UID:c29dd307-e329-47a5-965e-5a7de1283557
URL:https://events.org/e/Geese---Getting-Killed-Again-Tour/MR7I49C3
BEGIN:VALARM
ACTION:DISPLAY
SUMMARY:Reminder
TRIGGER:-P1D
END:VALARM
END:VEVENT
END:VCALENDAR
