BEGIN:VCALENDAR
METHOD:REQUEST
PRODID:-//events.orgNONSGML ical.net 4.0//EN
VERSION:2.0
BEGIN:VEVENT
DTEND;VALUE=DATE:20260510
DTSTAMP:20260422T015305Z
DTSTART;VALUE=DATE:20260510
LOCATION:Live! Casino & Hotel Philadelphia\, Philadelphia
ORGANIZER;CN=:mailto:events@events.org
SEQUENCE:0
SUMMARY:Gary Owen
UID:88d62d33-98a9-4eb7-b1f8-b8c1c61d1cc3
URL:https://events.org/e/Gary-Owen/8LVQT7GU
BEGIN:VALARM
ACTION:DISPLAY
SUMMARY:Reminder
TRIGGER:-P1D
END:VALARM
END:VEVENT
END:VCALENDAR
