BEGIN:VCALENDAR
METHOD:REQUEST
PRODID:-//events.orgNONSGML ical.net 4.0//EN
VERSION:2.0
BEGIN:VEVENT
DTEND;VALUE=DATE:20260506
DTSTAMP:20260421T094941Z
DTSTART;VALUE=DATE:20260506
LOCATION:Echoplex\, Los Angeles
ORGANIZER;CN=:mailto:events@events.org
SEQUENCE:0
SUMMARY:CONCRETE BOYS: IT'S US - VOL. 2 TOUR - SOLD OUT
UID:a37b2245-3635-4b09-a01f-8295866cab8e
URL:https://events.org/e/CONCRETE-BOYS-ITS-US---VOL-2-TOUR---SOLD-OUT/TRYX
 3I29
BEGIN:VALARM
ACTION:DISPLAY
SUMMARY:Reminder
TRIGGER:-P1D
END:VALARM
END:VEVENT
END:VCALENDAR
