BEGIN:VCALENDAR
METHOD:REQUEST
PRODID:-//events.orgNONSGML ical.net 4.0//EN
VERSION:2.0
BEGIN:VEVENT
DTEND;VALUE=DATE:20260519
DTSTAMP:20260422T092302Z
DTSTART;VALUE=DATE:20260519
LOCATION:El Rey Theatre - Los Angeles\, Los Angeles
ORGANIZER;CN=:mailto:events@events.org
SEQUENCE:0
SUMMARY:Hemlocke Springs
UID:32a3efe6-19fa-473c-b58e-4aba7da71b8d
URL:https://events.org/e/Hemlocke-Springs/A2PQI79N
BEGIN:VALARM
ACTION:DISPLAY
SUMMARY:Reminder
TRIGGER:-P1D
END:VALARM
END:VEVENT
END:VCALENDAR
