BEGIN:VCALENDAR
METHOD:REQUEST
PRODID:-//events.orgNONSGML ical.net 4.0//EN
VERSION:2.0
BEGIN:VEVENT
DTEND;VALUE=DATE:20260725
DTSTAMP:20260421T081924Z
DTSTART;VALUE=DATE:20260725
LOCATION:The Echo Lounge & Music Hall\, Dallas
ORGANIZER;CN=:mailto:events@events.org
SEQUENCE:0
SUMMARY:Punchis Punchis: Banda Rave Experience - 18+ Event
UID:23075f15-94cd-4f16-b1f4-354e279a4709
URL:https://events.org/e/Punchis-Punchis-Banda-Rave-Experience---18-Event/
 CMLR2839
BEGIN:VALARM
ACTION:DISPLAY
SUMMARY:Reminder
TRIGGER:-P1D
END:VALARM
END:VEVENT
END:VCALENDAR
