BEGIN:VCALENDAR
METHOD:REQUEST
PRODID:-//events.orgNONSGML ical.net 4.0//EN
VERSION:2.0
BEGIN:VEVENT
DTEND;VALUE=DATE:20260629
DTSTAMP:20260421T144730Z
DTSTART;VALUE=DATE:20260629
LOCATION:Coors Field\, Denver
ORGANIZER;CN=:mailto:events@events.org
SEQUENCE:0
SUMMARY:Colorado Rockies vs. Miami Marlins
UID:b3eb010e-1382-4e78-825c-2692e3520dbb
URL:https://events.org/e/Colorado-Rockies-vs-Miami-Marlins/X7H267QP
BEGIN:VALARM
ACTION:DISPLAY
SUMMARY:Reminder
TRIGGER:-P1D
END:VALARM
END:VEVENT
END:VCALENDAR
