BEGIN:VCALENDAR
METHOD:REQUEST
PRODID:-//events.orgNONSGML ical.net 4.0//EN
VERSION:2.0
BEGIN:VEVENT
DTEND;VALUE=DATE:20260428
DTSTAMP:20260424T080546Z
DTSTART;VALUE=DATE:20260428
LOCATION:Madison Square Garden\, New York
ORGANIZER;CN=:mailto:events@events.org
SEQUENCE:0
SUMMARY:East Conf Qtrs: Atlanta Hawks at New York Knicks HM GM3
UID:20c09cc9-4063-4ee6-bcc4-aca9ba98fd19
URL:https://events.org/e/East-Conf-Qtrs-Atlanta-Hawks-at-New-York-Knic/2S4
 YKVC6
BEGIN:VALARM
ACTION:DISPLAY
SUMMARY:Reminder
TRIGGER:-P1D
END:VALARM
END:VEVENT
END:VCALENDAR
