BEGIN:VCALENDAR
METHOD:REQUEST
PRODID:-//events.orgNONSGML ical.net 4.0//EN
VERSION:2.0
BEGIN:VEVENT
DTEND;VALUE=DATE:20260607
DTSTAMP:20260421T095230Z
DTSTART;VALUE=DATE:20260607
LOCATION:Three Links Deep Ellum\, Dallas
ORGANIZER;CN=:mailto:events@events.org
SEQUENCE:0
SUMMARY:Brendan Lane
UID:f1acee88-6b2b-4883-98b3-469c44f86845
URL:https://events.org/e/Brendan-Lane/777LMDBY
BEGIN:VALARM
ACTION:DISPLAY
SUMMARY:Reminder
TRIGGER:-P1D
END:VALARM
END:VEVENT
END:VCALENDAR
