BEGIN:VCALENDAR
METHOD:REQUEST
PRODID:-//events.orgNONSGML ical.net 4.0//EN
VERSION:2.0
BEGIN:VEVENT
DTEND;VALUE=DATE:20260918
DTSTAMP:20260422T090715Z
DTSTART;VALUE=DATE:20260918
LOCATION:Music Box\, San Diego
ORGANIZER;CN=:mailto:events@events.org
SEQUENCE:0
SUMMARY:Satin Jackets
UID:0ee58e9f-0d7c-41ae-8a52-c07529f3ed23
URL:https://events.org/e/Satin-Jackets/J67TG6RM
BEGIN:VALARM
ACTION:DISPLAY
SUMMARY:Reminder
TRIGGER:-P1D
END:VALARM
END:VEVENT
END:VCALENDAR
