BEGIN:VCALENDAR
METHOD:REQUEST
PRODID:-//events.orgNONSGML ical.net 4.0//EN
VERSION:2.0
BEGIN:VEVENT
DTEND;VALUE=DATE:20260517
DTSTAMP:20260419T091802Z
DTSTART;VALUE=DATE:20260517
LOCATION:The Chapel\, San Francisco
ORGANIZER;CN=:mailto:events@events.org
SEQUENCE:0
SUMMARY:Sleaford Mods
UID:55164417-711b-4fef-b31e-448a0ca4b798
URL:https://events.org/e/Sleaford-Mods/HVKWOJ3U
BEGIN:VALARM
ACTION:DISPLAY
SUMMARY:Reminder
TRIGGER:-P1D
END:VALARM
END:VEVENT
END:VCALENDAR
