BEGIN:VCALENDAR
METHOD:REQUEST
PRODID:-//events.orgNONSGML ical.net 4.0//EN
VERSION:2.0
BEGIN:VEVENT
DTEND;VALUE=DATE:20260920
DTSTAMP:20260419T143622Z
DTSTART;VALUE=DATE:20260920
LOCATION:Dos Equis Pavilion\, Dallas
ORGANIZER;CN=:mailto:events@events.org
SEQUENCE:0
SUMMARY:Empire of the Sun - Ask That God: Afterlife North American Tour
UID:ae598ef5-f27e-452c-8517-e323f72ec988
URL:https://events.org/e/Empire-of-the-Sun---Ask-That-God-Afterlife-No/6BI
 GSXYF
BEGIN:VALARM
ACTION:DISPLAY
SUMMARY:Reminder
TRIGGER:-P1D
END:VALARM
END:VEVENT
END:VCALENDAR
