BEGIN:VCALENDAR
METHOD:REQUEST
PRODID:-//events.orgNONSGML ical.net 4.0//EN
VERSION:2.0
BEGIN:VEVENT
DTEND;VALUE=DATE:20260530
DTSTAMP:20260424T092747Z
DTSTART;VALUE=DATE:20260530
LOCATION:Almeda Mall\, Houston
ORGANIZER;CN=:mailto:events@events.org
SEQUENCE:0
SUMMARY:Flip Circus
UID:db384c38-24cd-4d28-952b-a9a551a56d9e
URL:https://events.org/e/Flip-Circus/O2I2DQ5B
BEGIN:VALARM
ACTION:DISPLAY
SUMMARY:Reminder
TRIGGER:-P1D
END:VALARM
END:VEVENT
END:VCALENDAR
