BEGIN:VCALENDAR
METHOD:REQUEST
PRODID:-//events.orgNONSGML ical.net 4.0//EN
VERSION:2.0
BEGIN:VEVENT
DTEND;VALUE=DATE:20261003
DTSTAMP:20260421T103640Z
DTSTART;VALUE=DATE:20261003
LOCATION:Gerald Ford Stadium\, Dallas
ORGANIZER;CN=:mailto:events@events.org
SEQUENCE:0
SUMMARY:SMU Mustangs Football vs. Boston College Eagles Football
UID:407774ed-e344-43a3-8b0d-d7d98a47e5df
URL:https://events.org/e/SMU-Mustangs-Football-vs-Boston-College-Eagle/OFV
 2L3UA
BEGIN:VALARM
ACTION:DISPLAY
SUMMARY:Reminder
TRIGGER:-P1D
END:VALARM
END:VEVENT
END:VCALENDAR
