BEGIN:VCALENDAR
METHOD:REQUEST
PRODID:-//events.orgNONSGML ical.net 4.0//EN
VERSION:2.0
BEGIN:VEVENT
DTEND;VALUE=DATE:20260612
DTSTAMP:20260419T165639Z
DTSTART;VALUE=DATE:20260612
LOCATION:Bayou Music Center\, Houston
ORGANIZER;CN=:mailto:events@events.org
SEQUENCE:0
SUMMARY:Thee Phantom & Illharmonic Orchestra
UID:8649649a-ed9f-4914-8566-048d68a62ff2
URL:https://events.org/e/Thee-Phantom-Illharmonic-Orchestra/4JQJNSST
BEGIN:VALARM
ACTION:DISPLAY
SUMMARY:Reminder
TRIGGER:-P1D
END:VALARM
END:VEVENT
END:VCALENDAR
