BEGIN:VCALENDAR
METHOD:REQUEST
PRODID:-//events.orgNONSGML ical.net 4.0//EN
VERSION:2.0
BEGIN:VEVENT
DTEND;VALUE=DATE:20260919
DTSTAMP:20260421T082524Z
DTSTART;VALUE=DATE:20260919
LOCATION:The Brass Mug\, Tampa
ORGANIZER;CN=:mailto:events@events.org
SEQUENCE:0
SUMMARY:Plush
UID:4d9a903a-a387-4074-9a18-40ecf252a481
URL:https://events.org/e/Plush/96RU9IU2
BEGIN:VALARM
ACTION:DISPLAY
SUMMARY:Reminder
TRIGGER:-P1D
END:VALARM
END:VEVENT
END:VCALENDAR
