BEGIN:VCALENDAR
METHOD:REQUEST
PRODID:-//events.orgNONSGML ical.net 4.0//EN
VERSION:2.0
BEGIN:VEVENT
DTEND;VALUE=DATE:20260619
DTSTAMP:20260421T131555Z
DTSTART;VALUE=DATE:20260619
LOCATION:Trump Kennedy Center - Opera House\, Washington
ORGANIZER;CN=:mailto:events@events.org
SEQUENCE:0
SUMMARY:Moulin Rouge (Touring)
UID:d209e052-68ef-4cbb-b389-71857eb6a0de
URL:https://events.org/e/Moulin-Rouge-Touring/GHXAPDKI
BEGIN:VALARM
ACTION:DISPLAY
SUMMARY:Reminder
TRIGGER:-P1D
END:VALARM
END:VEVENT
END:VCALENDAR
