BEGIN:VCALENDAR
METHOD:REQUEST
PRODID:-//events.orgNONSGML ical.net 4.0//EN
VERSION:2.0
BEGIN:VEVENT
DTEND;VALUE=DATE:20260506
DTSTAMP:20260419T143117Z
DTSTART;VALUE=DATE:20260506
LOCATION:The United Theater on Broadway\, Los Angeles
ORGANIZER;CN=:mailto:events@events.org
SEQUENCE:0
SUMMARY:Netflix Is A Joke Presents: Shxtsngigs: Daddy's Home Live
UID:28f8460b-8ce9-4801-bb6f-1d501600a446
URL:https://events.org/e/Netflix-Is-A-Joke-Presents-Shxtsngigs-Daddys/53D2
 GUYW
BEGIN:VALARM
ACTION:DISPLAY
SUMMARY:Reminder
TRIGGER:-P1D
END:VALARM
END:VEVENT
END:VCALENDAR
