BEGIN:VCALENDAR
METHOD:REQUEST
PRODID:-//events.orgNONSGML ical.net 4.0//EN
VERSION:2.0
BEGIN:VEVENT
DTEND;VALUE=DATE:20260612
DTSTAMP:20260421T103725Z
DTSTART;VALUE=DATE:20260612
LOCATION:La Rumba\, Denver
ORGANIZER;CN=:mailto:events@events.org
SEQUENCE:0
SUMMARY:Ladies Night & Noche Sonidera
UID:10030b7b-411e-4771-8ad0-8e534a7c681d
URL:https://events.org/e/Ladies-Night-Noche-Sonidera/BDRO5CYW
BEGIN:VALARM
ACTION:DISPLAY
SUMMARY:Reminder
TRIGGER:-P1D
END:VALARM
END:VEVENT
END:VCALENDAR
