BEGIN:VCALENDAR
METHOD:REQUEST
PRODID:-//events.orgNONSGML ical.net 4.0//EN
VERSION:2.0
BEGIN:VEVENT
DTEND;VALUE=DATE:20260423
DTSTAMP:20260422T090453Z
DTSTART;VALUE=DATE:20260423
LOCATION:Audible's Minetta Lane Theatre\, New York
ORGANIZER;CN=:mailto:events@events.org
SEQUENCE:0
SUMMARY:What Happened Was
UID:e1119b51-47c4-405d-9d20-fd0790535d52
URL:https://events.org/e/What-Happened-Was/QIQAPGD5
BEGIN:VALARM
ACTION:DISPLAY
SUMMARY:Reminder
TRIGGER:-P1D
END:VALARM
END:VEVENT
END:VCALENDAR
