BEGIN:VCALENDAR
METHOD:REQUEST
PRODID:-//events.orgNONSGML ical.net 4.0//EN
VERSION:2.0
BEGIN:VEVENT
DTEND;VALUE=DATE:20260607
DTSTAMP:20260422T092427Z
DTSTART;VALUE=DATE:20260607
LOCATION:Stages - Sterling Stage\, Houston
ORGANIZER;CN=:mailto:events@events.org
SEQUENCE:0
SUMMARY:Spamilton: An American Parody
UID:a0848e47-d14e-4e6b-a88a-9334cdd905d6
URL:https://events.org/e/Spamilton-An-American-Parody/H9M8IODT
BEGIN:VALARM
ACTION:DISPLAY
SUMMARY:Reminder
TRIGGER:-P1D
END:VALARM
END:VEVENT
END:VCALENDAR
