BEGIN:VCALENDAR
METHOD:REQUEST
PRODID:-//events.orgNONSGML ical.net 4.0//EN
VERSION:2.0
BEGIN:VEVENT
DTEND;VALUE=DATE:20260626
DTSTAMP:20260421T144608Z
DTSTART;VALUE=DATE:20260626
LOCATION:Marian Anderson Hall - Kimmel Center\, Philadelphia
ORGANIZER;CN=:mailto:events@events.org
SEQUENCE:0
SUMMARY:Philadelphia Orchestra presents The Wizard of Oz in Concert
UID:d5e4bc92-ea2b-4fc5-83f3-650474c63fca
URL:https://events.org/e/Philadelphia-Orchestra-presents-The-Wizard-of/KUD
 XBKHD
BEGIN:VALARM
ACTION:DISPLAY
SUMMARY:Reminder
TRIGGER:-P1D
END:VALARM
END:VEVENT
END:VCALENDAR
