BEGIN:VCALENDAR
METHOD:REQUEST
PRODID:-//events.orgNONSGML ical.net 4.0//EN
VERSION:2.0
BEGIN:VEVENT
DTEND;VALUE=DATE:20260612
DTSTAMP:20260421T095752Z
DTSTART;VALUE=DATE:20260612
LOCATION:White Oak Music Hall - Downstairs\, Houston
ORGANIZER;CN=:mailto:events@events.org
SEQUENCE:0
SUMMARY:Turnpike Tributedours
UID:1e3bcd97-3af5-4b70-941e-8e19f5b9abba
URL:https://events.org/e/Turnpike-Tributedours/YTUBHD5M
BEGIN:VALARM
ACTION:DISPLAY
SUMMARY:Reminder
TRIGGER:-P1D
END:VALARM
END:VEVENT
END:VCALENDAR
