BEGIN:VCALENDAR
METHOD:REQUEST
PRODID:-//events.orgNONSGML ical.net 4.0//EN
VERSION:2.0
BEGIN:VEVENT
DTEND;VALUE=DATE:20260419
DTSTAMP:20260421T082048Z
DTSTART;VALUE=DATE:20260419
LOCATION:Samuel J Friedman Theatre\, New York
ORGANIZER;CN=:mailto:events@events.org
SEQUENCE:0
SUMMARY:The Balusters
UID:79525b30-30a1-429e-b080-625ac566abb2
URL:https://events.org/e/The-Balusters/E9B7FYTJ
BEGIN:VALARM
ACTION:DISPLAY
SUMMARY:Reminder
TRIGGER:-P1D
END:VALARM
END:VEVENT
END:VCALENDAR
