BEGIN:VCALENDAR
METHOD:REQUEST
PRODID:-//events.orgNONSGML ical.net 4.0//EN
VERSION:2.0
BEGIN:VEVENT
DTEND;VALUE=DATE:20260630
DTSTAMP:20260421T103946Z
DTSTART;VALUE=DATE:20260630
LOCATION:Pechanga Arena San Diego\, San Diego
ORGANIZER;CN=:mailto:events@events.org
SEQUENCE:0
SUMMARY:Don Toliver: Octane Tour
UID:0cd461ef-2490-4e4a-b175-c59b66d20b1d
URL:https://events.org/e/Don-Toliver-Octane-Tour/D3K95YH7
BEGIN:VALARM
ACTION:DISPLAY
SUMMARY:Reminder
TRIGGER:-P1D
END:VALARM
END:VEVENT
END:VCALENDAR
