BEGIN:VCALENDAR
METHOD:REQUEST
PRODID:-//events.orgNONSGML ical.net 4.0//EN
VERSION:2.0
BEGIN:VEVENT
DTEND;VALUE=DATE:20260605
DTSTAMP:20260424T081526Z
DTSTART;VALUE=DATE:20260605
LOCATION:Underground Arts\, Philadelphia
ORGANIZER;CN=:mailto:events@events.org
SEQUENCE:0
SUMMARY:Stygian Bough: Bell Witch & Aerial Ruin with 40 Watt Sun (21+ Even
 t)
UID:1875e8fa-5151-4c4b-9547-8cf9d42151fa
URL:https://events.org/e/Stygian-Bough-Bell-Witch-Aerial-Ruin-with-40/GQ3S
 B5EX
BEGIN:VALARM
ACTION:DISPLAY
SUMMARY:Reminder
TRIGGER:-P1D
END:VALARM
END:VEVENT
END:VCALENDAR
