BEGIN:VCALENDAR
METHOD:REQUEST
PRODID:-//events.orgNONSGML ical.net 4.0//EN
VERSION:2.0
BEGIN:VEVENT
DTEND;VALUE=DATE:20260507
DTSTAMP:20260421T090135Z
DTSTART;VALUE=DATE:20260507
LOCATION:The Hotel Cafe (Second Stage)\, Los Angeles
ORGANIZER;CN=:mailto:events@events.org
SEQUENCE:0
SUMMARY:Nicky Paris w/ Netflix Is A Joke: The Festival
UID:1016f282-c11f-42fb-b7b8-317697e14163
URL:https://events.org/e/Nicky-Paris-w-Netflix-Is-A-Joke-The-Festival/7PEU
 2DP9
BEGIN:VALARM
ACTION:DISPLAY
SUMMARY:Reminder
TRIGGER:-P1D
END:VALARM
END:VEVENT
END:VCALENDAR
