BEGIN:VCALENDAR
METHOD:REQUEST
PRODID:-//events.orgNONSGML ical.net 4.0//EN
VERSION:2.0
BEGIN:VEVENT
DTEND;VALUE=DATE:20260523
DTSTAMP:20260422T090634Z
DTSTART;VALUE=DATE:20260523
LOCATION:Cadillac Palace\, Chicago
ORGANIZER;CN=:mailto:events@events.org
SEQUENCE:0
SUMMARY:Les Miserables (Chicago)
UID:ebf9dbeb-196f-42c9-bbf1-a72f3def9772
URL:https://events.org/e/Les-Miserables-Chicago/2DFIMNIN
BEGIN:VALARM
ACTION:DISPLAY
SUMMARY:Reminder
TRIGGER:-P1D
END:VALARM
END:VEVENT
END:VCALENDAR
