BEGIN:VCALENDAR
METHOD:REQUEST
PRODID:-//events.orgNONSGML ical.net 4.0//EN
VERSION:2.0
BEGIN:VEVENT
DTEND;VALUE=DATE:20260619
DTSTAMP:20260422T090302Z
DTSTART;VALUE=DATE:20260619
LOCATION:Royale Boston\, Boston
ORGANIZER;CN=:mailto:events@events.org
SEQUENCE:0
SUMMARY:Marie Vaunt
UID:fb3ed7ad-4407-4efb-93e4-75ff8ef1a0e0
URL:https://events.org/e/Marie-Vaunt/LIV5IIHG
BEGIN:VALARM
ACTION:DISPLAY
SUMMARY:Reminder
TRIGGER:-P1D
END:VALARM
END:VEVENT
END:VCALENDAR
