BEGIN:VCALENDAR
METHOD:REQUEST
PRODID:-//events.orgNONSGML ical.net 4.0//EN
VERSION:2.0
BEGIN:VEVENT
DTEND;VALUE=DATE:20260524
DTSTAMP:20260422T091309Z
DTSTART;VALUE=DATE:20260524
LOCATION:Wrigley Field\, Chicago
ORGANIZER;CN=:mailto:events@events.org
SEQUENCE:0
SUMMARY:Chicago Cubs vs Houston Astros: Ryne Sandberg Bobblehead
UID:26193a7f-1a58-4f85-a55a-97bc7fbd0cb4
URL:https://events.org/e/Chicago-Cubs-vs-Houston-Astros-Ryne-Sandberg/8PKR
 YRB3
BEGIN:VALARM
ACTION:DISPLAY
SUMMARY:Reminder
TRIGGER:-P1D
END:VALARM
END:VEVENT
END:VCALENDAR
