BEGIN:VCALENDAR
METHOD:REQUEST
PRODID:-//events.orgNONSGML ical.net 4.0//EN
VERSION:2.0
BEGIN:VEVENT
DTEND;VALUE=DATE:20260426
DTSTAMP:20260423T172204Z
DTSTART;VALUE=DATE:20260426
LOCATION:Blue Note Los Angeles\, Los Angeles
ORGANIZER;CN=:mailto:events@events.org
SEQUENCE:0
SUMMARY:Kelsey Lu
UID:5c3ed643-35b4-4680-b1c6-9fb0a9487abf
URL:https://events.org/e/Kelsey-Lu/8PBKHFDO
BEGIN:VALARM
ACTION:DISPLAY
SUMMARY:Reminder
TRIGGER:-P1D
END:VALARM
END:VEVENT
END:VCALENDAR
