BEGIN:VCALENDAR
METHOD:REQUEST
PRODID:-//events.orgNONSGML ical.net 4.0//EN
VERSION:2.0
BEGIN:VEVENT
DTEND;VALUE=DATE:20260515
DTSTAMP:20260421T095621Z
DTSTART;VALUE=DATE:20260515
LOCATION:The Fillmore\, San Francisco
ORGANIZER;CN=:mailto:events@events.org
SEQUENCE:0
SUMMARY:Joyce Manor\, Militarie Gun\, Teen Mortgage\, & Combat
UID:978a26c5-4b67-494e-9548-bd386f95ad3b
URL:https://events.org/e/Joyce-Manor-Militarie-Gun-Teen-Mortgage-Combat/U4
 T2TT4W
BEGIN:VALARM
ACTION:DISPLAY
SUMMARY:Reminder
TRIGGER:-P1D
END:VALARM
END:VEVENT
END:VCALENDAR
