BEGIN:VCALENDAR
METHOD:REQUEST
PRODID:-//events.orgNONSGML ical.net 4.0//EN
VERSION:2.0
BEGIN:VEVENT
DTEND;VALUE=DATE:20260529
DTSTAMP:20260423T094025Z
DTSTART;VALUE=DATE:20260529
LOCATION:The Cambridge Room at House Of Blues\, Dallas
ORGANIZER;CN=:mailto:events@events.org
SEQUENCE:0
SUMMARY:BabyFxce E - Be Da Realest Tour 2026
UID:398a1553-d850-4e77-8263-ad2cfed77e22
URL:https://events.org/e/BabyFxce-E---Be-Da-Realest-Tour-2026/CAVSG7HA
BEGIN:VALARM
ACTION:DISPLAY
SUMMARY:Reminder
TRIGGER:-P1D
END:VALARM
END:VEVENT
END:VCALENDAR
