BEGIN:VCALENDAR
METHOD:REQUEST
PRODID:-//events.orgNONSGML ical.net 4.0//EN
VERSION:2.0
BEGIN:VEVENT
DTEND;VALUE=DATE:20260523
DTSTAMP:20260426T002851Z
DTSTART;VALUE=DATE:20260523
LOCATION:Alley Theatre-Neuhaus Stage\, Houston
ORGANIZER;CN=:mailto:events@events.org
SEQUENCE:0
SUMMARY:Dear Alien
UID:a33c4ca6-8ca7-45d9-924a-fd1fe1868307
URL:https://events.org/e/Dear-Alien/H6SH8LCM
BEGIN:VALARM
ACTION:DISPLAY
SUMMARY:Reminder
TRIGGER:-P1D
END:VALARM
END:VEVENT
END:VCALENDAR
