BEGIN:VCALENDAR
METHOD:REQUEST
PRODID:-//events.orgNONSGML ical.net 4.0//EN
VERSION:2.0
BEGIN:VEVENT
DTEND;VALUE=DATE:20260628
DTSTAMP:20260421T215046Z
DTSTART;VALUE=DATE:20260628
LOCATION:The Met Presented by Highmark\, Philadelphia
ORGANIZER;CN=:mailto:events@events.org
SEQUENCE:0
SUMMARY:The Human League With Very Special Guests Soft Cell & Alison Moyet
UID:9d02524b-e82e-4f05-b680-4a431e928e90
URL:https://events.org/e/The-Human-League-With-Very-Special-Guests-Sof/G5C
 HCALQ
BEGIN:VALARM
ACTION:DISPLAY
SUMMARY:Reminder
TRIGGER:-P1D
END:VALARM
END:VEVENT
END:VCALENDAR
