BEGIN:VCALENDAR
METHOD:REQUEST
PRODID:-//events.orgNONSGML ical.net 4.0//EN
VERSION:2.0
BEGIN:VEVENT
DTEND;VALUE=DATE:20260701
DTSTAMP:20260421T082048Z
DTSTART;VALUE=DATE:20260701
LOCATION:The Fillmore Detroit\, Detroit
ORGANIZER;CN=:mailto:events@events.org
SEQUENCE:0
SUMMARY:Buju Banton & Stephen Marley: Roots and Rhymes Tour
UID:3c8b1c30-301d-47b2-bbfc-9215ec445f6c
URL:https://events.org/e/Buju-Banton-Stephen-Marley-Roots-and-Rhymes-Tour/
 N3X8KVJ3
BEGIN:VALARM
ACTION:DISPLAY
SUMMARY:Reminder
TRIGGER:-P1D
END:VALARM
END:VEVENT
END:VCALENDAR
