BEGIN:VCALENDAR
METHOD:REQUEST
PRODID:-//events.orgNONSGML ical.net 4.0//EN
VERSION:2.0
BEGIN:VEVENT
DTEND;VALUE=DATE:20260828
DTSTAMP:20260424T092445Z
DTSTART;VALUE=DATE:20260828
LOCATION:Underground Arts\, Philadelphia
ORGANIZER;CN=:mailto:events@events.org
SEQUENCE:0
SUMMARY:Therapy Gecko Podcast
UID:d403d8d6-75c7-474d-bab8-8f8233d8d55c
URL:https://events.org/e/Therapy-Gecko-Podcast/U56F5QN7
BEGIN:VALARM
ACTION:DISPLAY
SUMMARY:Reminder
TRIGGER:-P1D
END:VALARM
END:VEVENT
END:VCALENDAR
