BEGIN:VCALENDAR
METHOD:REQUEST
PRODID:-//events.orgNONSGML ical.net 4.0//EN
VERSION:2.0
BEGIN:VEVENT
DTEND;VALUE=DATE:20260923
DTSTAMP:20260422T090944Z
DTSTART;VALUE=DATE:20260923
LOCATION:Walnut Street Theatre\, Philadelphia
ORGANIZER;CN=:mailto:events@events.org
SEQUENCE:0
SUMMARY:The Addams Family (Touring)
UID:ab673982-2ed2-4455-97b3-e447168fbfdb
URL:https://events.org/e/The-Addams-Family-Touring/DO5NDXXQ
BEGIN:VALARM
ACTION:DISPLAY
SUMMARY:Reminder
TRIGGER:-P1D
END:VALARM
END:VEVENT
END:VCALENDAR
