BEGIN:VCALENDAR
METHOD:REQUEST
PRODID:-//events.orgNONSGML ical.net 4.0//EN
VERSION:2.0
BEGIN:VEVENT
DTEND;VALUE=DATE:20260522
DTSTAMP:20260422T091309Z
DTSTART;VALUE=DATE:20260522
LOCATION:Reggies Bananna's Shack \, Chicago
ORGANIZER;CN=:mailto:events@events.org
SEQUENCE:0
SUMMARY:Indiscipline
UID:a8d794cf-20ce-49a6-951a-4ef3bd496b9c
URL:https://events.org/e/Indiscipline/YA9BSSC9
BEGIN:VALARM
ACTION:DISPLAY
SUMMARY:Reminder
TRIGGER:-P1D
END:VALARM
END:VEVENT
END:VCALENDAR
