BEGIN:VCALENDAR
METHOD:REQUEST
PRODID:-//events.orgNONSGML ical.net 4.0//EN
VERSION:2.0
BEGIN:VEVENT
DTEND;VALUE=DATE:20260425
DTSTAMP:20260422T092141Z
DTSTART;VALUE=DATE:20260425
LOCATION:Minskoff Theatre\, New York
ORGANIZER;CN=:mailto:events@events.org
SEQUENCE:0
SUMMARY:The Lion King (New York\, NY)
UID:6f2ae8a1-a06a-44e2-96b9-1cfda1547462
URL:https://events.org/e/The-Lion-King-New-York-NY/9YF55IJ3
BEGIN:VALARM
ACTION:DISPLAY
SUMMARY:Reminder
TRIGGER:-P1D
END:VALARM
END:VEVENT
END:VCALENDAR
