BEGIN:VCALENDAR
METHOD:REQUEST
PRODID:-//events.orgNONSGML ical.net 4.0//EN
VERSION:2.0
BEGIN:VEVENT
DTEND;VALUE=DATE:20260527
DTSTAMP:20260426T034621Z
DTSTART;VALUE=DATE:20260527
LOCATION:Howard Theatre\, Washington
ORGANIZER;CN=:mailto:events@events.org
SEQUENCE:0
SUMMARY:Naomi Watanabe: From Tokyo
UID:45bc3b16-00cf-47d2-8c46-2dcd3c20d3ef
URL:https://events.org/e/Naomi-Watanabe-From-Tokyo/R9K6SGYR
BEGIN:VALARM
ACTION:DISPLAY
SUMMARY:Reminder
TRIGGER:-P1D
END:VALARM
END:VEVENT
END:VCALENDAR
