BEGIN:VCALENDAR
METHOD:REQUEST
PRODID:-//events.orgNONSGML ical.net 4.0//EN
VERSION:2.0
BEGIN:VEVENT
DTEND;VALUE=DATE:20260619
DTSTAMP:20260419T185652Z
DTSTART;VALUE=DATE:20260619
LOCATION:The Observatory North Park\, San Diego
ORGANIZER;CN=:mailto:events@events.org
SEQUENCE:0
SUMMARY:idobi Radio Summer School w/ Honey Revenge & more
UID:f2debb21-ffa7-497b-94f8-eedc21696f49
URL:https://events.org/e/idobi-Radio-Summer-School-w-Honey-Revenge-more/RH
 C8LQQS
BEGIN:VALARM
ACTION:DISPLAY
SUMMARY:Reminder
TRIGGER:-P1D
END:VALARM
END:VEVENT
END:VCALENDAR
