BEGIN:VCALENDAR
METHOD:REQUEST
PRODID:-//events.orgNONSGML ical.net 4.0//EN
VERSION:2.0
BEGIN:VEVENT
DTEND;VALUE=DATE:20260704
DTSTAMP:20260421T130446Z
DTSTART;VALUE=DATE:20260704
LOCATION:The Rady Shell at Jacobs Park\, San Diego
ORGANIZER;CN=:mailto:events@events.org
SEQUENCE:0
SUMMARY:America the Beautiful
UID:73293d6f-2bda-48f4-8f82-e586b948b9ea
URL:https://events.org/e/America-the-Beautiful/JE3CS3HY
BEGIN:VALARM
ACTION:DISPLAY
SUMMARY:Reminder
TRIGGER:-P1D
END:VALARM
END:VEVENT
END:VCALENDAR
