BEGIN:VCALENDAR
METHOD:REQUEST
PRODID:-//events.orgNONSGML ical.net 4.0//EN
VERSION:2.0
BEGIN:VEVENT
DTEND;VALUE=DATE:20260711
DTSTAMP:20260423T133507Z
DTSTART;VALUE=DATE:20260711
LOCATION:Guthrie Theater - McGuire Proscenium Stage\, Minneapolis
ORGANIZER;CN=:mailto:events@events.org
SEQUENCE:0
SUMMARY:Come from Away
UID:10131f60-6d9e-4793-bc06-d0e8c2f9ee6d
URL:https://events.org/e/Come-from-Away/U5RQN327
BEGIN:VALARM
ACTION:DISPLAY
SUMMARY:Reminder
TRIGGER:-P1D
END:VALARM
END:VEVENT
END:VCALENDAR
